BEGIN:VCALENDAR
VERSION:2.0
PRODID:-//Australian Outfitters Hotspur Outback Safari - ECPv4.9.8//NONSGML v1.0//EN
CALSCALE:GREGORIAN
METHOD:PUBLISH
X-WR-CALNAME:Australian Outfitters Hotspur Outback Safari
X-ORIGINAL-URL:http://australianoutfitters.com.au
X-WR-CALDESC:Events for Australian Outfitters Hotspur Outback Safari
BEGIN:VTIMEZONE
TZID:UTC
BEGIN:STANDARD
TZOFFSETFROM:+0000
TZOFFSETTO:+0000
TZNAME:UTC
DTSTART:20170101T000000
END:STANDARD
END:VTIMEZONE
BEGIN:VEVENT
DTSTART;VALUE=DATE:20170113
DTEND;VALUE=DATE:20170116
DTSTAMP:20260425T151711
CREATED:20170131T003648Z
LAST-MODIFIED:20170131T004111Z
UID:1772-1484265600-1484524799@australianoutfitters.com.au
SUMMARY:Houston Safari Club
DESCRIPTION:Australian Outfitters will be at Houston Safari Club Booth 606 13th-15th January 2017 \n
URL:http://australianoutfitters.com.au/event/houston-safari-club/
END:VEVENT
BEGIN:VEVENT
DTSTART;TZID="UTC":20170201T080000
DTEND;TZID="UTC":20170204T170000
DTSTAMP:20260425T151711
CREATED:20170131T001608Z
LAST-MODIFIED:20170131T001608Z
UID:1766-1485936000-1486227600@australianoutfitters.com.au
SUMMARY:SCI Show Las Vegas
DESCRIPTION:Be sure to visit Australian Outfitters at booth 1510 at Safari Club International show Las Vegas 2017 \n
URL:http://australianoutfitters.com.au/event/sci-show-las-vegas/
END:VEVENT
BEGIN:VEVENT
DTSTART;VALUE=DATE:20170401
DTEND;VALUE=DATE:20170403
DTSTAMP:20260425T151711
CREATED:20170110T093235Z
LAST-MODIFIED:20170131T000702Z
UID:1643-1491004800-1491177599@australianoutfitters.com.au
SUMMARY:HunterFirst Aid Course
DESCRIPTION:Expressions of interest are being taken for a 2 day Remote area focused first aid course \nThe Best First Aid Course you will ever attend \nReal life\,scenario-based training \nOpen to all outdoors enthusiasts \nNationally recognised ‘Apply First Aid’ qualifications \nHunters First Aid Course flier \n
URL:http://australianoutfitters.com.au/event/hunterfirst-aid-course/
LOCATION:Jericho QLD\, Australia
ORGANIZER;CN="Australian%20Outfitters%20Hotspur%20Outback%20Safaris":MAILTO:craig@australianoutfitters.com.au
END:VEVENT
BEGIN:VEVENT
DTSTART;VALUE=DATE:20170504
DTEND;VALUE=DATE:20170509
DTSTAMP:20260425T151711
CREATED:20170110T083040Z
LAST-MODIFIED:20170110T093304Z
UID:1639-1493856000-1494287999@australianoutfitters.com.au
SUMMARY:Ladies Only Hunt
DESCRIPTION:Australian Outfitters is proud to announce our first annual ladies only Safari. This fully guided Safari is specifically aimed at our female hunters\, offering first class accommodation and facilities\, including air- conditioned bedrooms\, swimming pool\, full bathroom and Laundry Facilities and a dining experience second to none. \nCome and be part of the HUNTING HOLIDAY at one of Australia’s premier hunting destinations with Australia’s own ‘Heart of the Huntress’ Christie Pisani \nLocated in Central West Queensland this 5 day Safari will include all meals\, guiding\, accommodation\, trophy care and a choice of a beautiful Fallow Buck or Chital Stag. Other species Available on request \nLadies Only Hunt Brochure \n
URL:http://australianoutfitters.com.au/event/ladies-only-hunt/
LOCATION:West Queensland\, Australia
ORGANIZER;CN="Australian%20Outfitters%20Hotspur%20Outback%20Safaris":MAILTO:craig@australianoutfitters.com.au
END:VEVENT
BEGIN:VEVENT
DTSTART;VALUE=DATE:20170520
DTEND;VALUE=DATE:20170522
DTSTAMP:20260425T151711
CREATED:20170131T002015Z
LAST-MODIFIED:20170131T002015Z
UID:1768-1495238400-1495411199@australianoutfitters.com.au
SUMMARY:Melbourne Shot Show
DESCRIPTION:Australian Outfitters will be at the Melbourne Shot Show 20th and 21st May 2017. \nCome and talk to Mike and Craig about booking the hunt of a lifetime !! \n
URL:http://australianoutfitters.com.au/event/melbourne-shot-show/
END:VEVENT
BEGIN:VEVENT
DTSTART;VALUE=DATE:20170826
DTEND;VALUE=DATE:20170828
DTSTAMP:20260425T151711
CREATED:20170131T002356Z
LAST-MODIFIED:20170131T002356Z
UID:1770-1503705600-1503878399@australianoutfitters.com.au
SUMMARY:Brisbane Shot Show
DESCRIPTION:Australian Outfitters will be at the Shot Show in Brisbane 26th and 27th of August. \nStop by and talk to us\, it could be the start of the adventure of a lifetime. \n
URL:http://australianoutfitters.com.au/event/brisbane-shot-show/
END:VEVENT
BEGIN:VEVENT
DTSTART;VALUE=DATE:20170916
DTEND;VALUE=DATE:20170918
DTSTAMP:20260425T151711
CREATED:20170823T005432Z
LAST-MODIFIED:20170823T005432Z
UID:1835-1505520000-1505692799@australianoutfitters.com.au
SUMMARY:I-Hunt Expo Sydney
DESCRIPTION:
URL:http://australianoutfitters.com.au/event/i-hunt-expo-sydney/
END:VEVENT
BEGIN:VEVENT
DTSTART;VALUE=DATE:20180131
DTEND;VALUE=DATE:20180204
DTSTAMP:20260425T151711
CREATED:20180126T233231Z
LAST-MODIFIED:20180126T233539Z
UID:1837-1517356800-1517702399@australianoutfitters.com.au
SUMMARY:SCI Show Las Vegas 2018
DESCRIPTION: \nAustralian Outfitters will be once again at the Las Vegas SCI show in booth 2268\, come and see us about your next true Australian Outback Hunting Adventure \n
URL:http://australianoutfitters.com.au/event/sci-show-las-vegas-2018/
END:VEVENT
BEGIN:VEVENT
DTSTART;VALUE=DATE:20180413
DTEND;VALUE=DATE:20180418
DTSTAMP:20260425T151711
CREATED:20170523T105215Z
LAST-MODIFIED:20170523T105215Z
UID:1800-1523577600-1524009599@australianoutfitters.com.au
SUMMARY:2018 Ladies Only Hunt
DESCRIPTION:Ladies Hunt 2018 \nOur ladies hunt will be on again in 2018. This hunt is aimed specifically at encouraging our female hunters in a safe and friendly environment. Come and join us\, and hunt with Australia’s Heart of the Huntress Christie Pisani and the experienced guides at Australian Outfitters\, \n
URL:http://australianoutfitters.com.au/event/2018-ladies-only-hunt/
END:VEVENT
END:VCALENDAR