BEGIN:VCALENDAR
VERSION:2.0
PRODID:-//Australian Outfitters Hotspur Outback Safari - ECPv4.9.8//NONSGML v1.0//EN
CALSCALE:GREGORIAN
METHOD:PUBLISH
X-WR-CALNAME:Australian Outfitters Hotspur Outback Safari
X-ORIGINAL-URL:http://australianoutfitters.com.au
X-WR-CALDESC:Events for Australian Outfitters Hotspur Outback Safari
BEGIN:VTIMEZONE
TZID:UTC
BEGIN:STANDARD
TZOFFSETFROM:+0000
TZOFFSETTO:+0000
TZNAME:UTC
DTSTART:20180101T000000
END:STANDARD
END:VTIMEZONE
BEGIN:VEVENT
DTSTART;VALUE=DATE:20180131
DTEND;VALUE=DATE:20180204
DTSTAMP:20260424T153650
CREATED:20180126T233231Z
LAST-MODIFIED:20180126T233539Z
UID:1837-1517356800-1517702399@australianoutfitters.com.au
SUMMARY:SCI Show Las Vegas 2018
DESCRIPTION: \nAustralian Outfitters will be once again at the Las Vegas SCI show in booth 2268\, come and see us about your next true Australian Outback Hunting Adventure \n
URL:http://australianoutfitters.com.au/event/sci-show-las-vegas-2018/
END:VEVENT
END:VCALENDAR