BEGIN:VCALENDAR
VERSION:2.0
PRODID:-//Australian Outfitters Hotspur Outback Safari - ECPv4.9.8//NONSGML v1.0//EN
CALSCALE:GREGORIAN
METHOD:PUBLISH
X-WR-CALNAME:Australian Outfitters Hotspur Outback Safari
X-ORIGINAL-URL:http://australianoutfitters.com.au
X-WR-CALDESC:Events for Australian Outfitters Hotspur Outback Safari
BEGIN:VTIMEZONE
TZID:UTC
BEGIN:STANDARD
TZOFFSETFROM:+0000
TZOFFSETTO:+0000
TZNAME:UTC
DTSTART:20170101T000000
END:STANDARD
END:VTIMEZONE
BEGIN:VEVENT
DTSTART;VALUE=DATE:20170520
DTEND;VALUE=DATE:20170522
DTSTAMP:20260424T144225
CREATED:20170131T002015Z
LAST-MODIFIED:20170131T002015Z
UID:1768-1495238400-1495411199@australianoutfitters.com.au
SUMMARY:Melbourne Shot Show
DESCRIPTION:Australian Outfitters will be at the Melbourne Shot Show 20th and 21st May 2017. \nCome and talk to Mike and Craig about booking the hunt of a lifetime !! \n
URL:http://australianoutfitters.com.au/event/melbourne-shot-show/
END:VEVENT
END:VCALENDAR