BEGIN:VCALENDAR
VERSION:2.0
PRODID:-//Australian Outfitters Hotspur Outback Safari - ECPv4.9.8//NONSGML v1.0//EN
CALSCALE:GREGORIAN
METHOD:PUBLISH
X-WR-CALNAME:Australian Outfitters Hotspur Outback Safari
X-ORIGINAL-URL:http://australianoutfitters.com.au
X-WR-CALDESC:Events for Australian Outfitters Hotspur Outback Safari
BEGIN:VTIMEZONE
TZID:UTC
BEGIN:STANDARD
TZOFFSETFROM:+0000
TZOFFSETTO:+0000
TZNAME:UTC
DTSTART:20170101T000000
END:STANDARD
END:VTIMEZONE
BEGIN:VEVENT
DTSTART;VALUE=DATE:20170401
DTEND;VALUE=DATE:20170403
DTSTAMP:20260424T143809
CREATED:20170110T093235Z
LAST-MODIFIED:20170131T000702Z
UID:1643-1491004800-1491177599@australianoutfitters.com.au
SUMMARY:HunterFirst Aid Course
DESCRIPTION:Expressions of interest are being taken for a 2 day Remote area focused first aid course \nThe Best First Aid Course you will ever attend \nReal life\,scenario-based training \nOpen to all outdoors enthusiasts \nNationally recognised ‘Apply First Aid’ qualifications \nHunters First Aid Course flier \n
URL:http://australianoutfitters.com.au/event/hunterfirst-aid-course/
LOCATION:Jericho QLD\, Australia
ORGANIZER;CN="Australian%20Outfitters%20Hotspur%20Outback%20Safaris":MAILTO:craig@australianoutfitters.com.au
END:VEVENT
END:VCALENDAR