BEGIN:VCALENDAR
VERSION:2.0
PRODID:-//Australian Outfitters Hotspur Outback Safari - ECPv4.9.8//NONSGML v1.0//EN
CALSCALE:GREGORIAN
METHOD:PUBLISH
X-WR-CALNAME:Australian Outfitters Hotspur Outback Safari
X-ORIGINAL-URL:http://australianoutfitters.com.au
X-WR-CALDESC:Events for Australian Outfitters Hotspur Outback Safari
BEGIN:VTIMEZONE
TZID:UTC
BEGIN:STANDARD
TZOFFSETFROM:+0000
TZOFFSETTO:+0000
TZNAME:UTC
DTSTART:20180101T000000
END:STANDARD
END:VTIMEZONE
BEGIN:VEVENT
DTSTART;VALUE=DATE:20180413
DTEND;VALUE=DATE:20180418
DTSTAMP:20260424T141605
CREATED:20170523T105215Z
LAST-MODIFIED:20170523T105215Z
UID:1800-1523577600-1524009599@australianoutfitters.com.au
SUMMARY:2018 Ladies Only Hunt
DESCRIPTION:Ladies Hunt 2018 \nOur ladies hunt will be on again in 2018. This hunt is aimed specifically at encouraging our female hunters in a safe and friendly environment. Come and join us\, and hunt with Australia’s Heart of the Huntress Christie Pisani and the experienced guides at Australian Outfitters\, \n
URL:http://australianoutfitters.com.au/event/2018-ladies-only-hunt/
END:VEVENT
END:VCALENDAR